BEGIN:VCALENDAR
VERSION:2.0
PRODID:-//The Constellation - ECPv6.15.11//NONSGML v1.0//EN
CALSCALE:GREGORIAN
METHOD:PUBLISH
X-ORIGINAL-URL:https://the-constellation.org
X-WR-CALDESC:Events for The Constellation
REFRESH-INTERVAL;VALUE=DURATION:PT1H
X-Robots-Tag:noindex
X-PUBLISHED-TTL:PT1H
BEGIN:VTIMEZONE
TZID:Europe/Paris
BEGIN:DAYLIGHT
TZOFFSETFROM:+0100
TZOFFSETTO:+0200
TZNAME:CEST
DTSTART:20210328T010000
END:DAYLIGHT
BEGIN:STANDARD
TZOFFSETFROM:+0200
TZOFFSETTO:+0100
TZNAME:CET
DTSTART:20211031T010000
END:STANDARD
BEGIN:DAYLIGHT
TZOFFSETFROM:+0100
TZOFFSETTO:+0200
TZNAME:CEST
DTSTART:20220327T010000
END:DAYLIGHT
BEGIN:STANDARD
TZOFFSETFROM:+0200
TZOFFSETTO:+0100
TZNAME:CET
DTSTART:20221030T010000
END:STANDARD
BEGIN:DAYLIGHT
TZOFFSETFROM:+0100
TZOFFSETTO:+0200
TZNAME:CEST
DTSTART:20230326T010000
END:DAYLIGHT
BEGIN:STANDARD
TZOFFSETFROM:+0200
TZOFFSETTO:+0100
TZNAME:CET
DTSTART:20231029T010000
END:STANDARD
BEGIN:DAYLIGHT
TZOFFSETFROM:+0100
TZOFFSETTO:+0200
TZNAME:CEST
DTSTART:20240331T010000
END:DAYLIGHT
BEGIN:STANDARD
TZOFFSETFROM:+0200
TZOFFSETTO:+0100
TZNAME:CET
DTSTART:20241027T010000
END:STANDARD
BEGIN:DAYLIGHT
TZOFFSETFROM:+0100
TZOFFSETTO:+0200
TZNAME:CEST
DTSTART:20250330T010000
END:DAYLIGHT
BEGIN:STANDARD
TZOFFSETFROM:+0200
TZOFFSETTO:+0100
TZNAME:CET
DTSTART:20251026T010000
END:STANDARD
END:VTIMEZONE
BEGIN:VEVENT
DTSTART;VALUE=DATE:20240424
DTEND;VALUE=DATE:20240425
DTSTAMP:20260421T152232
CREATED:20240418T064019Z
LAST-MODIFIED:20240418T064019Z
UID:3875-1713916800-1714003199@the-constellation.org
SUMMARY:MarketPlace: Celebrating our Contributions to an Inclusive Society
DESCRIPTION:Be inspired by creative solutions for a more inclusive world!\nYou are invited to attend the Market Place Exhibition organized by The Constellation and VOICE on April 24.\nRightsholders from Africa and Asia will present their experience and their lessons.\nYou can choose to either register and participate in person or virtually. Your presence is highly welcomed at the event.\n\n\nRegister here: https://forms.gle/8sW9EBqKYb8wUcFbA
URL:https://the-constellation.org/event/marketplace-celebrating-our-contributions-to-an-inclusive-society/
CATEGORIES:Events,Voice Link and Learn
ATTACH;FMTTYPE=image/jpeg:https://the-constellation.org/wp-content/uploads/Market-Place-Social.jpeg
END:VEVENT
BEGIN:VEVENT
DTSTART;VALUE=DATE:20240422
DTEND;VALUE=DATE:20240426
DTSTAMP:20260421T152232
CREATED:20240418T063737Z
LAST-MODIFIED:20240418T063738Z
UID:3872-1713744000-1714089599@the-constellation.org
SUMMARY:Voice: Global Learning Festival
DESCRIPTION:The Constellation organises and Facilitate a Global Learning Festival for Voice Multi-country grantee partners. \nTheme: Now Us! \nCelebrating our contributions towards an inclusive society. \n  \nThis is a closed event.
URL:https://the-constellation.org/event/voice-global-learning-festival/
CATEGORIES:Voice Link and Learn
ATTACH;FMTTYPE=image/png:https://the-constellation.org/wp-content/uploads/NOW-Us-Logo-pink.png
END:VEVENT
BEGIN:VEVENT
DTSTART;TZID=Europe/Paris:20231018T140000
DTEND;TZID=Europe/Paris:20231018T150000
DTSTAMP:20260421T152232
CREATED:20231012T053225Z
LAST-MODIFIED:20231012T053226Z
UID:3717-1697637600-1697641200@the-constellation.org
SUMMARY:Taking the Camera and Microphone in your own hand
DESCRIPTION:Since 2022 The Constellation is facilitating the Linking and Learning between grantees of the Voice programme. One element in the process includes the community led filming of good practices. Join the film teams in their conversation about what this is bringing to them and their communities\, at the occassion of the yearly ABCD Unconference. \nRegistration form: https://forms.gle/AXGRUbrjkeDMkca79
URL:https://the-constellation.org/event/taking-the-camera-and-microphone-in-your-own-hand/
CATEGORIES:Conference, talks,Film Screening,Voice Link and Learn
ATTACH;FMTTYPE=image/jpeg:https://the-constellation.org/wp-content/uploads/2310_VJ-Unconference.jpeg
END:VEVENT
BEGIN:VEVENT
DTSTART;TZID=Europe/Paris:20230827T100000
DTEND;TZID=Europe/Paris:20230827T113000
DTSTAMP:20260421T152232
CREATED:20230816T090246Z
LAST-MODIFIED:20230816T092251Z
UID:3586-1693130400-1693135800@the-constellation.org
SUMMARY:Learn Visit: Deaf Youth Baking
DESCRIPTION:Who doesnot like a good cake for a Sunday break? \nJoin us for a visit to a youth group in Vietnam. They may not hear so well\, but baking they can! \nPARD Vietnam\, partner in the DeafLoud! project funded by Voice is inviting us to an online Learn Visit where they will talk about their experience on a true rightsholder led initiative. \nWiwin Winarni and Margaret Musumbi from The Constellation will help support the conversation where the international audience will Appreciate\, Listen and hopefully transfer some new knowledge or skills back to their own context. \nVoice Learn Visits are intended at Voice Multi-Country Grantees. All others who are interested to learn are most welcome! \nInternational sign language and spoken French interpretation will be provided. \nJoin Zoom Meeting\nhttps://us02web.zoom.us/j/83811155548?pwd=Q1hWTGs5Zk9hSUhPOHZ6aHJ5bWJJZz09 \nMeeting ID: 838 1115 5548\nPasscode: 709446
URL:https://the-constellation.org/event/learn-visit-deaf-youth-baking/
CATEGORIES:Voice Link and Learn
ATTACH;FMTTYPE=image/png:https://the-constellation.org/wp-content/uploads/Pard-Learn-Visit-Poster.png
END:VEVENT
BEGIN:VEVENT
DTSTART;VALUE=DATE:20230724
DTEND;VALUE=DATE:20230728
DTSTAMP:20260421T152232
CREATED:20230316T121018Z
LAST-MODIFIED:20230316T121018Z
UID:3348-1690156800-1690502399@the-constellation.org
SUMMARY:African Link and Learn Festival
DESCRIPTION:The Constellation facilitates a Link and Learn event for ten Voice multi-country grantees\, in Nairobi\, Kenya. On the agenda: Bonding\, a Market Place to share experience\, Learn visits to grantee projects and communities\, Community of Practice at Work and reflections on What did we learn? What will we do… 
URL:https://the-constellation.org/event/african-link-and-learn-festival/
CATEGORIES:Voice Link and Learn
ATTACH;FMTTYPE=image/png:https://the-constellation.org/wp-content/uploads/African-LnL-Festival-Giraffe.png
END:VEVENT
BEGIN:VEVENT
DTSTART;TZID=Europe/Paris:20230626T120000
DTEND;TZID=Europe/Paris:20230626T140000
DTSTAMP:20260421T152232
CREATED:20230613T141550Z
LAST-MODIFIED:20230613T141550Z
UID:3425-1687780800-1687788000@the-constellation.org
SUMMARY:Learn Visit: Temedt - Mali
DESCRIPTION:Voice Linking and Learning: Learn Visits\nPresents: Temedt\nFace to face and online\nZoom link: https://us02web.zoom.us/j/89426987067?pwd=MTEwL3dGUkVRS0toRWJDQU9lTkJrdz09 \nRegister here: https://forms.gle/YjP4RpXu8MTX5hTq8 \nCreated in 2006 in Ménaka\, following an assembly of over three thousand people from all over the country and abroad\, Temedt is the first Malian human rights association to tackle the practices of descent-based slavery that are rife in all communities. Its main objective is to combat slavery throughout the country.  \n“After twenty years of struggle\, we have made significant progress: the taboo of slavery has been broken! \nCome and learn with Temedt on how to break the taboo on slavery\, and more!
URL:https://the-constellation.org/event/learn-visit-temedt-mali/
CATEGORIES:Voice Link and Learn
ATTACH;FMTTYPE=image/jpeg:https://the-constellation.org/wp-content/uploads/FR-Invitation-Temedt.jpeg
END:VEVENT
BEGIN:VEVENT
DTSTART;TZID=Europe/Paris:20220825T110000
DTEND;TZID=Europe/Paris:20220825T140000
DTSTAMP:20260421T152232
CREATED:20220815T090128Z
LAST-MODIFIED:20220815T090128Z
UID:3194-1661425200-1661436000@the-constellation.org
SUMMARY:Voice Link and Learn: Global Dream
DESCRIPTION:This year and during 2023 The Constellation facilitators from Asia and Africa are helping grantees from the Voice programme to link with each other for learning. The Facilitators are accompanying the grantees as they discover their strengths and their dreams so that they come well prepared to joint learning events. \nEach grantee has developed an inspiring dream\, which was brought together in three regional dreams during the month of June. \nOn the 25th of August representatives of 19 multi-country grantees of Voice come together\, online\, to build one common dream for an inclusive world. \n 
URL:https://the-constellation.org/event/voice-link-and-learn-global-dream/
CATEGORIES:Voice Link and Learn
ATTACH;FMTTYPE=image/jpeg:https://the-constellation.org/wp-content/uploads/Icon-Voice-The-Constellation.jpeg
END:VEVENT
END:VCALENDAR